BEGIN:VCALENDAR
VERSION:2.0
PRODID:-//Bladet Evangelisten - ECPv6.15.20//NONSGML v1.0//EN
CALSCALE:GREGORIAN
METHOD:PUBLISH
X-ORIGINAL-URL:https://www.evangelisten.no
X-WR-CALDESC:Arrangement for Bladet Evangelisten
REFRESH-INTERVAL;VALUE=DURATION:PT1H
X-Robots-Tag:noindex
X-PUBLISHED-TTL:PT1H
BEGIN:VTIMEZONE
TZID:Europe/Oslo
BEGIN:DAYLIGHT
TZOFFSETFROM:+0100
TZOFFSETTO:+0200
TZNAME:CEST
DTSTART:20250330T010000
END:DAYLIGHT
BEGIN:STANDARD
TZOFFSETFROM:+0200
TZOFFSETTO:+0100
TZNAME:CET
DTSTART:20251026T010000
END:STANDARD
BEGIN:DAYLIGHT
TZOFFSETFROM:+0100
TZOFFSETTO:+0200
TZNAME:CEST
DTSTART:20260329T010000
END:DAYLIGHT
BEGIN:STANDARD
TZOFFSETFROM:+0200
TZOFFSETTO:+0100
TZNAME:CET
DTSTART:20261025T010000
END:STANDARD
BEGIN:DAYLIGHT
TZOFFSETFROM:+0100
TZOFFSETTO:+0200
TZNAME:CEST
DTSTART:20270328T010000
END:DAYLIGHT
BEGIN:STANDARD
TZOFFSETFROM:+0200
TZOFFSETTO:+0100
TZNAME:CET
DTSTART:20271031T010000
END:STANDARD
END:VTIMEZONE
BEGIN:VEVENT
DTSTART;TZID=Europe/Oslo:20260131T180000
DTEND;TZID=Europe/Oslo:20260201T210000
DTSTAMP:20260426T041044
CREATED:20260129T100011Z
LAST-MODIFIED:20260129T100011Z
UID:4850-1769882400-1769979600@www.evangelisten.no
SUMMARY:Koparvik Bedehus
DESCRIPTION:Kilden Bibelmisjon inviterer til møter: Lørdag 31.januar kl. 18.00. Sang av Loftsmusikken. \nSøndag 1. februar kl.19.00. Tale ved Bente og Mathias Lie. \nTale ved Kurt Urhaug. Tema: «Israel nå» \nGave til Bladet Evangelisten \nAlle er hjertelig velkommen. \nadr: Hovedgata 31\, Koparvik
URL:https://www.evangelisten.no/event/koparvik-bedehus/
END:VEVENT
END:VCALENDAR