BEGIN:VCALENDAR
VERSION:2.0
PRODID:-//Bladet Evangelisten - ECPv6.15.20//NONSGML v1.0//EN
CALSCALE:GREGORIAN
METHOD:PUBLISH
X-ORIGINAL-URL:https://www.evangelisten.no
X-WR-CALDESC:Arrangement for Bladet Evangelisten
REFRESH-INTERVAL;VALUE=DURATION:PT1H
X-Robots-Tag:noindex
X-PUBLISHED-TTL:PT1H
BEGIN:VTIMEZONE
TZID:Europe/Oslo
BEGIN:DAYLIGHT
TZOFFSETFROM:+0100
TZOFFSETTO:+0200
TZNAME:CEST
DTSTART:20250330T010000
END:DAYLIGHT
BEGIN:STANDARD
TZOFFSETFROM:+0200
TZOFFSETTO:+0100
TZNAME:CET
DTSTART:20251026T010000
END:STANDARD
BEGIN:DAYLIGHT
TZOFFSETFROM:+0100
TZOFFSETTO:+0200
TZNAME:CEST
DTSTART:20260329T010000
END:DAYLIGHT
BEGIN:STANDARD
TZOFFSETFROM:+0200
TZOFFSETTO:+0100
TZNAME:CET
DTSTART:20261025T010000
END:STANDARD
BEGIN:DAYLIGHT
TZOFFSETFROM:+0100
TZOFFSETTO:+0200
TZNAME:CEST
DTSTART:20270328T010000
END:DAYLIGHT
BEGIN:STANDARD
TZOFFSETFROM:+0200
TZOFFSETTO:+0100
TZNAME:CET
DTSTART:20271031T010000
END:STANDARD
END:VTIMEZONE
BEGIN:VEVENT
DTSTART;TZID=Europe/Oslo:20260204T113000
DTEND;TZID=Europe/Oslo:20260204T140000
DTSTAMP:20260426T000622
CREATED:20260111T083839Z
LAST-MODIFIED:20260111T083839Z
UID:4841-1770204600-1770213600@www.evangelisten.no
SUMMARY:Formiddagstreff
DESCRIPTION:Nesttun Bedehus\, Øvsttunvegen 58. Bladet Evangelisten -Kurt Urhaug besøker formiddastreffet onsdag 4. febr. kl.11\,30. God mat og godt fellesskap. Alle er velkommen.
URL:https://www.evangelisten.no/event/formiddagstreff/
END:VEVENT
END:VCALENDAR