BEGIN:VCALENDAR
VERSION:2.0
PRODID:-//Bladet Evangelisten - ECPv6.15.20//NONSGML v1.0//EN
CALSCALE:GREGORIAN
METHOD:PUBLISH
X-ORIGINAL-URL:https://www.evangelisten.no
X-WR-CALDESC:Arrangement for Bladet Evangelisten
REFRESH-INTERVAL;VALUE=DURATION:PT1H
X-Robots-Tag:noindex
X-PUBLISHED-TTL:PT1H
BEGIN:VTIMEZONE
TZID:Europe/Oslo
BEGIN:DAYLIGHT
TZOFFSETFROM:+0100
TZOFFSETTO:+0200
TZNAME:CEST
DTSTART:20250330T010000
END:DAYLIGHT
BEGIN:STANDARD
TZOFFSETFROM:+0200
TZOFFSETTO:+0100
TZNAME:CET
DTSTART:20251026T010000
END:STANDARD
BEGIN:DAYLIGHT
TZOFFSETFROM:+0100
TZOFFSETTO:+0200
TZNAME:CEST
DTSTART:20260329T010000
END:DAYLIGHT
BEGIN:STANDARD
TZOFFSETFROM:+0200
TZOFFSETTO:+0100
TZNAME:CET
DTSTART:20261025T010000
END:STANDARD
BEGIN:DAYLIGHT
TZOFFSETFROM:+0100
TZOFFSETTO:+0200
TZNAME:CEST
DTSTART:20270328T010000
END:DAYLIGHT
BEGIN:STANDARD
TZOFFSETFROM:+0200
TZOFFSETTO:+0100
TZNAME:CET
DTSTART:20271031T010000
END:STANDARD
END:VTIMEZONE
BEGIN:VEVENT
DTSTART;TZID=Europe/Oslo:20260321T170000
DTEND;TZID=Europe/Oslo:20260322T130000
DTSTAMP:20260423T025402
CREATED:20260319T060834Z
LAST-MODIFIED:20260319T060834Z
UID:4892-1774112400-1774184400@www.evangelisten.no
SUMMARY:Betel Seljord
DESCRIPTION:Møter\, Betel Seljord\, Gullnesvegen 4. Lørdag 21.mars kl.17.00. \nSøndag 22.mars kl 11.00. Tale ved Kurt Urhaug. \nTema: Vandring i Påsken \nMisjonsgave \nAlle er hjertelig velkommen!
URL:https://www.evangelisten.no/event/betel-seljord/
ATTACH;FMTTYPE=image/jpeg:https://www.evangelisten.no/wp-content/uploads/2026/03/betel.jpg
END:VEVENT
END:VCALENDAR